BEGIN:VCALENDAR
VERSION:2.0
PRODID:-//Emmanuelle Germond - ECPv6.2.4//NONSGML v1.0//EN
CALSCALE:GREGORIAN
METHOD:PUBLISH
X-ORIGINAL-URL:https://egermond.ch
X-WR-CALDESC:évènements pour Emmanuelle Germond
REFRESH-INTERVAL;VALUE=DURATION:PT1H
X-Robots-Tag:noindex
X-PUBLISHED-TTL:PT1H
BEGIN:VTIMEZONE

END:VTIMEZONE
BEGIN:VEVENT
DTSTART;TZID=Europe/Paris:20231022T091548
DTEND;TZID=Europe/Paris:20231022T091548
DTSTAMP:20231022T091548
CREATED:20220312T211000Z
LAST-MODIFIED:20220312T211000Z
UID:1460-0-0@egermond.ch
SUMMARY:Intergen – Entraide numérique
DESCRIPTION:Chaque mois: venez quand vous pouvez\, repartez quand vous voulez !De 7 à 107 ans\, journée libre d’entraide numérique intergénérationnelle: Apporter un peu à boire\, à manger et surtout vos équipements numériques. Venez partager vos envies informatiques (site/page web\, blog\, emailing?)\, comme vos difficultés?\nIntergen est une initiative citoyenne\, réalisée par des professionnels de l’informatique\, pour apporter des réponses aux questions que nous nous posons tous. Sur le numérique\, le monde des nouvelles technologies\, etc. Organisé de manière ouverte et conviviale\, un samedi par mois\, en toute simplicité.
URL:https://egermond.ch/evenements/intergen-entraide-numerique/
CATEGORIES:Intergen,Rencontre,SDMB
ATTACH;FMTTYPE=image/png:https://egermond.ch/wp-content/uploads/2022/03/intergen-illustration-200dpi-wj1Q5s.tmp_.png
ORGANIZER;CN="Emmanuelle Germond":MAILTO:emmanuelle_germond@sdmb_ch
END:VEVENT
BEGIN:VEVENT
DTSTART;TZID=Europe/Paris:20231022T091548
DTEND;TZID=Europe/Paris:20231022T091548
DTSTAMP:20231022T091548
CREATED:20220312T210957Z
LAST-MODIFIED:20220312T210957Z
UID:1458-0-0@egermond.ch
SUMMARY:[Reporté au 2 avril] Mini-Festival Corée du Nord
DESCRIPTION:Le mini-festival est reporté au 2 avril pour des raisons de licence.La Corée du Nord n’est pas le pays le plus communicatif quand il s’agit d’art et de contenu public. Mais\, il y a de ça quelques années\, la Corée du Nord a fait parler d’elle en acceptant d’exporter 4 longs métrages nord-coréens à la diffusion mondiale.\nLe but de ce mini-festival est de vous faire découvrir ces 4 films ainsi que quelques contenus surprise.\nLes séances commenceront à 16h\, le samedi 12 février 2022\, avec une pause entre les films pour échanger et papoter.
URL:https://egermond.ch/evenements/reporte-au-2-avril-mini-festival-coree-du-nord/
CATEGORIES:Cinéma,Festival,Rencontre,SDMB
ATTACH;FMTTYPE=image/png:https://egermond.ch/wp-content/uploads/2022/03/rect84905-gX1HtM.tmp_.png
ORGANIZER;CN="Soci%C3%A9t%C3%A9 de d%C3%A9veloppement Marterey-Bugnon":MAILTO:info@sdmb_ch
END:VEVENT
BEGIN:VEVENT
DTSTART;TZID=Europe/Paris:20231022T091548
DTEND;TZID=Europe/Paris:20231022T091548
DTSTAMP:20231022T091548
CREATED:20220312T210953Z
LAST-MODIFIED:20220312T210953Z
UID:1457-0-0@egermond.ch
SUMMARY:Summer War – Open-air à Mon-Repos
DESCRIPTION:film en open-air\, il aura lieu dans l’amphithéâtre de la Villa Mon Repos à 22h le samedi 18 juin (reporté en cas d’intempéries).Summer Wars\n(2009) de Mamoru Hosoda\nKenji\, collégien matheux\, accompagne la jolie Natsuki à une fête de son immense famille. Au même moment\, dans le réseau social OZ\, Love Machine\, dangereuse intelligence artificielle\, débute un chaos mondial.
URL:https://egermond.ch/evenements/summer-war-open-air-a-mon-repos/
CATEGORIES:Cinéma,Rencontre,SDMB
ATTACH;FMTTYPE=image/jpeg:https://egermond.ch/wp-content/uploads/2022/03/Summer-wars-1-856x1024-1-kcnP5K.tmp_.jpg
ORGANIZER;CN="Soci%C3%A9t%C3%A9 de d%C3%A9veloppement Marterey-Bugnon":MAILTO:info@sdmb_ch
END:VEVENT
BEGIN:VEVENT
DTSTART;TZID=Europe/Paris:20231022T091548
DTEND;TZID=Europe/Paris:20231022T091548
DTSTAMP:20231022T091548
CREATED:20220312T210946Z
LAST-MODIFIED:20220312T210946Z
UID:1455-0-0@egermond.ch
SUMMARY:Café Climat – Les gestes numériques durables: diminuez votre empreinte CO2
DESCRIPTION:Dans toutes nos activités\, on peut chercher notre empreinte carbone et tenter de la diminuer du mieux que l’on peut. Cela n’est pas toujours simple quand il s’agit de fruits et légumes ou de nos vêtements\, mais quand il s’agit de notre informatique\, le choix semble très vite impossible. Pourtant\, avec quelques gestes simples\, de nouvelles habitudes de travail peuvent vite changer la donne. Accessible à tous les niveaux\, cet atelier est conçu pour toutes les expériences et les profils utilisateurs.De l’achat à l’usage quotidien\, notre monde numérique vu sous l’angle du durable et de nos habitudes. Pendant cet atelier\, vous apprendrez: \nLes gestes quotidiens pour diminuer notre empreinte en ligne \nOrdinateur\, smartphone et tablettes \nLes services numériques durables\, éthiques et écologiques \nRéseaux sociaux\, email\, site web et logiciels \nL’achat d’un ordinateur durable \nNeuf et durable:comment bien choisir\nOccasion: une 2e vie paisible \nSmartphones: nos chers “mouchards de poche” \nPeut-on les rendre durables ?\nComment leur donner une seconde vie ? \nLinux\, logiciels libres: si je ne suis pas informaticien\, c’est possible ? \nAnimé par Emmanuelle Germond.\nEmmanuelle Germond donne des cours d’informatique depuis plus de 20 ans. Elle s’est spécialisée en Linux\, plus en éthique numérique plus générale. Aujourd’hui\, elle est membre de Swisslinux.org\, du Parti Pirate Vaudois\, anime l’atelier d’entraide numérique Intergen Ours\, en collaboration avec la SDMB où elle est membre du comité. Emmanuelle est une coopératrice Itopie\, coopérative de spécialistes romands du numérique durable\, et membre du comité scientifique de l’Institut du Numérique Durable Suisse.
URL:https://egermond.ch/evenements/cafe-climat-les-gestes-numeriques-durables-diminuez-votre-empreinte-co2/
CATEGORIES:Café Climat,Rencontre,SDMB
ORGANIZER;CN="Soci%C3%A9t%C3%A9 de d%C3%A9veloppement Marterey-Bugnon":MAILTO:info@sdmb_ch
END:VEVENT
BEGIN:VEVENT
DTSTART;TZID=Europe/Paris:20231022T091548
DTEND;TZID=Europe/Paris:20231022T091548
DTSTAMP:20231022T091548
CREATED:20220312T210928Z
LAST-MODIFIED:20220312T210928Z
UID:1453-0-0@egermond.ch
SUMMARY:Café Climat
DESCRIPTION:Description à venir
URL:https://egermond.ch/evenements/cafe-climat/
CATEGORIES:Café Climat,Rencontre,SDMB
ORGANIZER;CN="Soci%C3%A9t%C3%A9 de d%C3%A9veloppement Marterey-Bugnon":MAILTO:info@sdmb_ch
END:VEVENT
BEGIN:VEVENT
DTSTART;TZID=Europe/Paris:20231022T091548
DTEND;TZID=Europe/Paris:20231022T091548
DTSTAMP:20231022T091548
CREATED:20220312T210924Z
LAST-MODIFIED:20220312T210924Z
UID:1451-0-0@egermond.ch
SUMMARY:Café Climat – Héros ordinaires: documentaire et débat
DESCRIPTION:Description à venir
URL:https://egermond.ch/evenements/cafe-climat-heros-ordinaires-documentaire-et-debat/
CATEGORIES:Café Climat,Rencontre,SDMB
ATTACH;FMTTYPE=image/jpeg:https://egermond.ch/wp-content/uploads/2022/03/banniere-diffusions-heros-ordinaires-neuchatel-w3oSob.tmp_.jpg
ORGANIZER;CN="Soci%C3%A9t%C3%A9 de d%C3%A9veloppement Marterey-Bugnon":MAILTO:info@sdmb_ch
END:VEVENT
BEGIN:VEVENT
DTSTART;TZID=Europe/Paris:20231022T091548
DTEND;TZID=Europe/Paris:20231022T091548
DTSTAMP:20231022T091548
CREATED:20220312T210920Z
LAST-MODIFIED:20220312T210920Z
UID:1450-0-0@egermond.ch
SUMMARY:Ciné-Club Athénée – Cycle “Les Toiles”
DESCRIPTION:Après avoir fait les honneurs de l’ex-emblématique cinéma Athénée\, notre second cycle de projections consacre une collaboration avec l’association “les Toiles” au travers d’une rétrospective de 4 titres parmi leurs meilleurs succès de projections open-air estivales des Toiles de Milan\, au parc éponyme. Pour clôturer ce cycle à l’intérieur de nos locaux\, une cinquième projection d’un film rarement vu en salle en Suisse sera offert à tous les habitants lors de notre week-end festif de juin.Au programme\, du rire fantastique\, du rire amoureux\, du drame social et du drame divin.\nLes séances ont toujours lieu à la Rue Caroline 16 le premier mercredi du mois\, soit les 2 mars\, 6 avril\, 4 mai et 1er juin à 20h ; ouverture des portes et bar à 19h.
URL:https://egermond.ch/evenements/cine-club-athenee-cycle-les-toiles/
CATEGORIES:Cinéma,Club-Athénée,SDMB
ATTACH;FMTTYPE=image/png:https://egermond.ch/wp-content/uploads/2022/03/Athenee-Publication-Facebook-BUDYCB.tmp_.png
ORGANIZER;CN="Soci%C3%A9t%C3%A9 de d%C3%A9veloppement Marterey-Bugnon":MAILTO:info@sdmb_ch
END:VEVENT
BEGIN:VEVENT
DTSTART;TZID=Europe/Paris:20231022T091548
DTEND;TZID=Europe/Paris:20231022T091548
DTSTAMP:20231022T091548
CREATED:20220312T210917Z
LAST-MODIFIED:20220312T210917Z
UID:1448-0-0@egermond.ch
SUMMARY:Réunion de comité
DESCRIPTION:Pour rejoindre le comité\, venez visiter le local\, participez à une de nos réunion et venez proposer vos idées et vos envies et si vous en avez le temps\, réaliser les projets que vous avez pour ce quartier!!
URL:https://egermond.ch/evenements/reunion-de-comite/
LOCATION:Rue Caroline 16\, Rue Caroline 16
CATEGORIES:Comité,SDMB
ORGANIZER;CN="Soci%C3%A9t%C3%A9 de d%C3%A9veloppement Marterey-Bugnon":MAILTO:info@sdmb_ch
END:VEVENT
BEGIN:VEVENT
DTSTART;TZID=Europe/Paris:20231022T091548
DTEND;TZID=Europe/Paris:20231022T091548
DTSTAMP:20231022T091548
CREATED:20220312T210913Z
LAST-MODIFIED:20220312T210913Z
UID:1447-0-0@egermond.ch
SUMMARY:Mini-Festival Corée du Nord
DESCRIPTION:La Corée du Nord n’est pas le pays le plus communicatif quand il s’agit d’art et de contenu public. Mais\, il y a de ça quelques années\, la Corée du Nord a fait parler d’elle en acceptant d’exporter 4 longs métrages nord-coréens à la diffusion mondiale.Le but de ce mini-festival est de vous faire découvrir ces 4 films ainsi que quelques contenus surprise.\nLes séances commenceront à 16h\, le samedi 12 février 2022\, avec une pause entre les films pour échanger et papoter.
URL:https://egermond.ch/evenements/mini-festival-coree-du-nord/
CATEGORIES:Cinéma,Festival,Rencontre,SDMB
ATTACH;FMTTYPE=image/png:https://egermond.ch/wp-content/uploads/2022/03/rect84905-gX1HtM.tmp_.png
ORGANIZER;CN="Soci%C3%A9t%C3%A9 de d%C3%A9veloppement Marterey-Bugnon":MAILTO:info@sdmb_ch
END:VEVENT
END:VCALENDAR