BEGIN:VCALENDAR
VERSION:2.0
PRODID:-//Emmanuelle Germond - ECPv6.2.4//NONSGML v1.0//EN
CALSCALE:GREGORIAN
METHOD:PUBLISH
X-WR-CALNAME:Emmanuelle Germond
X-ORIGINAL-URL:https://egermond.ch
X-WR-CALDESC:évènements pour Emmanuelle Germond
REFRESH-INTERVAL;VALUE=DURATION:PT1H
X-Robots-Tag:noindex
X-PUBLISHED-TTL:PT1H
BEGIN:VTIMEZONE

END:VTIMEZONE
BEGIN:VEVENT
DTSTART;TZID=Europe/Paris:20231022T091602
DTEND;TZID=Europe/Paris:20231022T091602
DTSTAMP:20231022T091602
CREATED:20220312T210946Z
LAST-MODIFIED:20220312T210946Z
UID:1455-0-0@egermond.ch
SUMMARY:Café Climat – Les gestes numériques durables: diminuez votre empreinte CO2
DESCRIPTION:Dans toutes nos activités\, on peut chercher notre empreinte carbone et tenter de la diminuer du mieux que l’on peut. Cela n’est pas toujours simple quand il s’agit de fruits et légumes ou de nos vêtements\, mais quand il s’agit de notre informatique\, le choix semble très vite impossible. Pourtant\, avec quelques gestes simples\, de nouvelles habitudes de travail peuvent vite changer la donne. Accessible à tous les niveaux\, cet atelier est conçu pour toutes les expériences et les profils utilisateurs.De l’achat à l’usage quotidien\, notre monde numérique vu sous l’angle du durable et de nos habitudes. Pendant cet atelier\, vous apprendrez: \nLes gestes quotidiens pour diminuer notre empreinte en ligne \nOrdinateur\, smartphone et tablettes \nLes services numériques durables\, éthiques et écologiques \nRéseaux sociaux\, email\, site web et logiciels \nL’achat d’un ordinateur durable \nNeuf et durable:comment bien choisir\nOccasion: une 2e vie paisible \nSmartphones: nos chers “mouchards de poche” \nPeut-on les rendre durables ?\nComment leur donner une seconde vie ? \nLinux\, logiciels libres: si je ne suis pas informaticien\, c’est possible ? \nAnimé par Emmanuelle Germond.\nEmmanuelle Germond donne des cours d’informatique depuis plus de 20 ans. Elle s’est spécialisée en Linux\, plus en éthique numérique plus générale. Aujourd’hui\, elle est membre de Swisslinux.org\, du Parti Pirate Vaudois\, anime l’atelier d’entraide numérique Intergen Ours\, en collaboration avec la SDMB où elle est membre du comité. Emmanuelle est une coopératrice Itopie\, coopérative de spécialistes romands du numérique durable\, et membre du comité scientifique de l’Institut du Numérique Durable Suisse.
URL:https://egermond.ch/evenements/cafe-climat-les-gestes-numeriques-durables-diminuez-votre-empreinte-co2/
CATEGORIES:Café Climat,Rencontre,SDMB
ORGANIZER;CN="Soci%C3%A9t%C3%A9 de d%C3%A9veloppement Marterey-Bugnon":MAILTO:info@sdmb_ch
END:VEVENT
BEGIN:VEVENT
DTSTART;TZID=Europe/Paris:20231022T091602
DTEND;TZID=Europe/Paris:20231022T091602
DTSTAMP:20231022T091602
CREATED:20220312T210928Z
LAST-MODIFIED:20220312T210928Z
UID:1453-0-0@egermond.ch
SUMMARY:Café Climat
DESCRIPTION:Description à venir
URL:https://egermond.ch/evenements/cafe-climat/
CATEGORIES:Café Climat,Rencontre,SDMB
ORGANIZER;CN="Soci%C3%A9t%C3%A9 de d%C3%A9veloppement Marterey-Bugnon":MAILTO:info@sdmb_ch
END:VEVENT
BEGIN:VEVENT
DTSTART;TZID=Europe/Paris:20231022T091602
DTEND;TZID=Europe/Paris:20231022T091602
DTSTAMP:20231022T091602
CREATED:20220312T210924Z
LAST-MODIFIED:20220312T210924Z
UID:1451-0-0@egermond.ch
SUMMARY:Café Climat – Héros ordinaires: documentaire et débat
DESCRIPTION:Description à venir
URL:https://egermond.ch/evenements/cafe-climat-heros-ordinaires-documentaire-et-debat/
CATEGORIES:Café Climat,Rencontre,SDMB
ATTACH;FMTTYPE=image/jpeg:https://egermond.ch/wp-content/uploads/2022/03/banniere-diffusions-heros-ordinaires-neuchatel-w3oSob.tmp_.jpg
ORGANIZER;CN="Soci%C3%A9t%C3%A9 de d%C3%A9veloppement Marterey-Bugnon":MAILTO:info@sdmb_ch
END:VEVENT
END:VCALENDAR