BEGIN:VCALENDAR
VERSION:2.0
PRODID:-//Emmanuelle Germond - ECPv6.2.4//NONSGML v1.0//EN
CALSCALE:GREGORIAN
METHOD:PUBLISH
X-WR-CALNAME:Emmanuelle Germond
X-ORIGINAL-URL:https://egermond.ch
X-WR-CALDESC:évènements pour Emmanuelle Germond
REFRESH-INTERVAL;VALUE=DURATION:PT1H
X-Robots-Tag:noindex
X-PUBLISHED-TTL:PT1H
BEGIN:VTIMEZONE

END:VTIMEZONE
BEGIN:VEVENT
DTSTART;TZID=Europe/Paris:20231022T091553
DTEND;TZID=Europe/Paris:20231022T091553
DTSTAMP:20231022T091553
CREATED:20220312T211154Z
LAST-MODIFIED:20220312T211154Z
UID:1465-0-0@egermond.ch
SUMMARY:Ciné-Club Athénée – 5 janvier 2022
DESCRIPTION:  \nBienvenue de  cycle de projections de films\, chaque premier mercredi du mois à 20h. \nC’est gratuit (avec chapeau à la sortie)\, bar sur place dès 19h. \nPour des raisons liées à la licence de droits d’auteurs\, nous ne sommes pas en mesure de communiquer le nom des films publiquement et n’avons le droit de ne les afficher que sur place dans nos locaux ou encore les signaler directement à nos membres. \nSi vous souhaitez qu’on vous communique directement le programme\, vous pouvez vous inscrire sur la newsletter. \nFilm \nAnnée\, minutes\, pays \nRésumé \nhttps://www.themoviedb.org
URL:https://egermond.ch/evenements/cine-club-athenee-5-janvier-2022/
CATEGORIES:Cinéma,Club-Athénée,SDMB
ATTACH;FMTTYPE=image/png:https://egermond.ch/wp-content/uploads/2022/03/rect84895-vzUy1t.tmp_.png
ORGANIZER;CN="Soci%C3%A9t%C3%A9 de d%C3%A9veloppement Marterey-Bugnon":MAILTO:info@sdmb_ch
END:VEVENT
BEGIN:VEVENT
DTSTART;TZID=Europe/Paris:20231022T091553
DTEND;TZID=Europe/Paris:20231022T091553
DTSTAMP:20231022T091553
CREATED:20220312T211151Z
LAST-MODIFIED:20220312T211151Z
UID:1463-0-0@egermond.ch
SUMMARY:Ciné-Club Athénée – 2 février 2022
DESCRIPTION:  \nBienvenue de  cycle de projections de films\, chaque premier mercredi du mois à 20h. \nC’est gratuit (avec chapeau à la sortie)\, bar sur place dès 19h. \nPour des raisons liées à la licence de droits d’auteurs\, nous ne sommes pas en mesure de communiquer le nom des films publiquement et n’avons le droit de ne les afficher que sur place dans nos locaux ou encore les signaler directement à nos membres. \nSi vous souhaitez qu’on vous communique directement le programme\, vous pouvez vous inscrire sur la newsletter. \nFilm \nAnnée\, minutes\, pays \nRésumé \nhttps://www.themoviedb.org
URL:https://egermond.ch/evenements/cine-club-athenee-2-fevrier-2022/
CATEGORIES:Cinéma,Club-Athénée,SDMB
ATTACH;FMTTYPE=image/png:https://egermond.ch/wp-content/uploads/2022/03/rect84895-vzUy1t.tmp_.png
ORGANIZER;CN="Soci%C3%A9t%C3%A9 de d%C3%A9veloppement Marterey-Bugnon":MAILTO:info@sdmb_ch
END:VEVENT
BEGIN:VEVENT
DTSTART;TZID=Europe/Paris:20231022T091553
DTEND;TZID=Europe/Paris:20231022T091553
DTSTAMP:20231022T091553
CREATED:20220312T210920Z
LAST-MODIFIED:20220312T210920Z
UID:1450-0-0@egermond.ch
SUMMARY:Ciné-Club Athénée – Cycle “Les Toiles”
DESCRIPTION:Après avoir fait les honneurs de l’ex-emblématique cinéma Athénée\, notre second cycle de projections consacre une collaboration avec l’association “les Toiles” au travers d’une rétrospective de 4 titres parmi leurs meilleurs succès de projections open-air estivales des Toiles de Milan\, au parc éponyme. Pour clôturer ce cycle à l’intérieur de nos locaux\, une cinquième projection d’un film rarement vu en salle en Suisse sera offert à tous les habitants lors de notre week-end festif de juin.Au programme\, du rire fantastique\, du rire amoureux\, du drame social et du drame divin.\nLes séances ont toujours lieu à la Rue Caroline 16 le premier mercredi du mois\, soit les 2 mars\, 6 avril\, 4 mai et 1er juin à 20h ; ouverture des portes et bar à 19h.
URL:https://egermond.ch/evenements/cine-club-athenee-cycle-les-toiles/
CATEGORIES:Cinéma,Club-Athénée,SDMB
ATTACH;FMTTYPE=image/png:https://egermond.ch/wp-content/uploads/2022/03/Athenee-Publication-Facebook-BUDYCB.tmp_.png
ORGANIZER;CN="Soci%C3%A9t%C3%A9 de d%C3%A9veloppement Marterey-Bugnon":MAILTO:info@sdmb_ch
END:VEVENT
END:VCALENDAR