BEGIN:VCALENDAR
VERSION:2.0
PRODID:-//Emmanuelle Germond - ECPv6.2.4//NONSGML v1.0//EN
CALSCALE:GREGORIAN
METHOD:PUBLISH
X-ORIGINAL-URL:https://egermond.ch
X-WR-CALDESC:évènements pour Emmanuelle Germond
REFRESH-INTERVAL;VALUE=DURATION:PT1H
X-Robots-Tag:noindex
X-PUBLISHED-TTL:PT1H
BEGIN:VTIMEZONE

END:VTIMEZONE
BEGIN:VEVENT
DTSTART;TZID=Europe/Paris:20231022T091248
DTEND;TZID=Europe/Paris:20231022T091248
DTSTAMP:20231022T091248
CREATED:20220312T211958Z
LAST-MODIFIED:20220312T211958Z
UID:1487-0-0@egermond.ch
SUMMARY:[Annulé]Intergen Ours avril 2020
DESCRIPTION:Chaque mois: venez quand vous pouvez\, repartez quand vous voulez !De 7 à 107 ans\, journée libre d’entraide numérique intergénérationnelle: Apporter un peu à boire\, à manger et surtout vos équipements numériques. Venez partager vos envies informatiques (site/page web\, blog\, emailing…)\, comme vos difficultés…\nIntergen est une initiative citoyenne\, réalisée par des professionnels de l’informatique\, pour apporter des réponses aux questions que nous nous posons tous. Sur le numérique\, le monde des nouvelles technologies\, etc. Organisé de manière ouverte et conviviale\, un samedi par mois\, en toute simplicité.
URL:https://egermond.ch/evenements/annuleintergen-ours-avril-2020/
CATEGORIES:Intergen,Rencontre,SDMB
ORGANIZER;CN="Emmanuelle Germond":MAILTO:emmanuelle_germond@sdmb_ch
END:VEVENT
BEGIN:VEVENT
DTSTART;TZID=Europe/Paris:20231022T091248
DTEND;TZID=Europe/Paris:20231022T091248
DTSTAMP:20231022T091248
CREATED:20220312T211951Z
LAST-MODIFIED:20220312T211951Z
UID:1485-0-0@egermond.ch
SUMMARY:[Annulé]Intergen Ours mars 2020
DESCRIPTION:Chaque mois: venez quand vous pouvez\, repartez quand vous voulez !De 7 à 107 ans\, journée libre d’entraide numérique intergénérationnelle: Apporter un peu à boire\, à manger et surtout vos équipements numériques. Venez partager vos envies informatiques (site/page web\, blog\, emailing…)\, comme vos difficultés…\nIntergen est une initiative citoyenne\, réalisée par des professionnels de l’informatique\, pour apporter des réponses aux questions que nous nous posons tous. Sur le numérique\, le monde des nouvelles technologies\, etc. Organisé de manière ouverte et conviviale\, un samedi par mois\, en toute simplicité.
URL:https://egermond.ch/evenements/annuleintergen-ours-mars-2020/
CATEGORIES:Intergen,Rencontre,SDMB
ORGANIZER;CN="Emmanuelle Germond":MAILTO:emmanuelle_germond@sdmb_ch
END:VEVENT
BEGIN:VEVENT
DTSTART;TZID=Europe/Paris:20231022T091248
DTEND;TZID=Europe/Paris:20231022T091248
DTSTAMP:20231022T091248
CREATED:20220312T211551Z
LAST-MODIFIED:20220312T211551Z
UID:1477-0-0@egermond.ch
SUMMARY:Intergen Ours – mars 2019
DESCRIPTION:Chaque mois: venez quand vous pouvez\, repartez quand vous voulez !De 7 à 107 ans\, journée libre d’entraide numérique intergénérationnelle: Apporter un peu à boire\, à manger et surtout vos équipements numériques. Venez partager vos envies informatiques (site/page web\, blog\, emailing…)\, comme vos difficultés…\nIntergen est une initiative citoyenne\, réalisée par des professionnels de l’informatique\, pour apporter des réponses aux questions que nous nous posons tous. Sur le numérique\, le monde des nouvelles technologies\, etc. Organisé de manière ouverte et conviviale\, un samedi par mois\, en toute simplicité.
URL:https://egermond.ch/evenements/intergen-ours-mars-2019/
CATEGORIES:Intergen,Rencontre,SDMB
ORGANIZER;CN="Emmanuelle Germond":MAILTO:emmanuelle_germond@sdmb_ch
END:VEVENT
BEGIN:VEVENT
DTSTART;TZID=Europe/Paris:20231022T091248
DTEND;TZID=Europe/Paris:20231022T091248
DTSTAMP:20231022T091248
CREATED:20220312T211347Z
LAST-MODIFIED:20220312T211347Z
UID:1471-0-0@egermond.ch
SUMMARY:Intergen mai 2021
DESCRIPTION:Chaque mois: venez quand vous pouvez\, repartez quand vous voulez !De 7 à 107 ans\, journée libre d’entraide numérique intergénérationnelle: Apporter un peu à boire\, à manger et surtout vos équipements numériques. Venez partager vos envies informatiques (site/page web\, blog\, emailing?)\, comme vos difficultés?\nIntergen est une initiative citoyenne\, réalisée par des professionnels de l’informatique\, pour apporter des réponses aux questions que nous nous posons tous. Sur le numérique\, le monde des nouvelles technologies\, etc. Organisé de manière ouverte et conviviale\, un samedi par mois\, en toute simplicité.
URL:https://egermond.ch/evenements/intergen-mai-2021/
LOCATION:Rue Caroline 16\, Rue Caroline 16
CATEGORIES:Intergen,Rencontre,SDMB
ORGANIZER;CN="Emmanuelle Germond":MAILTO:emmanuelle_germond@sdmb_ch
END:VEVENT
BEGIN:VEVENT
DTSTART;TZID=Europe/Paris:20231022T091248
DTEND;TZID=Europe/Paris:20231022T091248
DTSTAMP:20231022T091248
CREATED:20220312T211000Z
LAST-MODIFIED:20220312T211000Z
UID:1460-0-0@egermond.ch
SUMMARY:Intergen – Entraide numérique
DESCRIPTION:Chaque mois: venez quand vous pouvez\, repartez quand vous voulez !De 7 à 107 ans\, journée libre d’entraide numérique intergénérationnelle: Apporter un peu à boire\, à manger et surtout vos équipements numériques. Venez partager vos envies informatiques (site/page web\, blog\, emailing?)\, comme vos difficultés?\nIntergen est une initiative citoyenne\, réalisée par des professionnels de l’informatique\, pour apporter des réponses aux questions que nous nous posons tous. Sur le numérique\, le monde des nouvelles technologies\, etc. Organisé de manière ouverte et conviviale\, un samedi par mois\, en toute simplicité.
URL:https://egermond.ch/evenements/intergen-entraide-numerique/
CATEGORIES:Intergen,Rencontre,SDMB
ATTACH;FMTTYPE=image/png:https://egermond.ch/wp-content/uploads/2022/03/intergen-illustration-200dpi-wj1Q5s.tmp_.png
ORGANIZER;CN="Emmanuelle Germond":MAILTO:emmanuelle_germond@sdmb_ch
END:VEVENT
END:VCALENDAR