BEGIN:VCALENDAR
VERSION:2.0
PRODID:-//Emmanuelle Germond - ECPv6.2.4//NONSGML v1.0//EN
CALSCALE:GREGORIAN
METHOD:PUBLISH
X-ORIGINAL-URL:https://egermond.ch
X-WR-CALDESC:évènements pour Emmanuelle Germond
REFRESH-INTERVAL;VALUE=DURATION:PT1H
X-Robots-Tag:noindex
X-PUBLISHED-TTL:PT1H
BEGIN:VTIMEZONE
TZID:Europe/Paris
BEGIN:DAYLIGHT
TZOFFSETFROM:+0100
TZOFFSETTO:+0200
TZNAME:CEST
DTSTART:20150329T010000
END:DAYLIGHT
BEGIN:STANDARD
TZOFFSETFROM:+0200
TZOFFSETTO:+0100
TZNAME:CET
DTSTART:20151025T010000
END:STANDARD
BEGIN:DAYLIGHT
TZOFFSETFROM:+0100
TZOFFSETTO:+0200
TZNAME:CEST
DTSTART:20160327T010000
END:DAYLIGHT
BEGIN:STANDARD
TZOFFSETFROM:+0200
TZOFFSETTO:+0100
TZNAME:CET
DTSTART:20161030T010000
END:STANDARD
BEGIN:DAYLIGHT
TZOFFSETFROM:+0100
TZOFFSETTO:+0200
TZNAME:CEST
DTSTART:20170326T010000
END:DAYLIGHT
BEGIN:STANDARD
TZOFFSETFROM:+0200
TZOFFSETTO:+0100
TZNAME:CET
DTSTART:20171029T010000
END:STANDARD
END:VTIMEZONE
BEGIN:VEVENT
DTSTART;TZID=Europe/Paris:20171118T100000
DTEND;TZID=Europe/Paris:20171118T180000
DTSTAMP:20231022T090555
CREATED:20171003T175353Z
LAST-MODIFIED:20171003T175353Z
UID:542-1510999200-1511028000@egermond.ch
SUMMARY:Intergen Cité – Novembre 2017
DESCRIPTION:Chaque mois: intergen \nVenez quand vous pouvez\,repartez quand vous voulez ! \nDe 7 à 107 ans\, journée libre d’entraide numérique intergénérationnelle.\nApporter un peu à boire\, à manger et surtout vos équipements numériques. Venez partager vos envies informatiques (site/page web\, blog\, emailing…)\, comme vos difficultés… \nIntergen est une initiative citoyenne\, réalisée par des professionnels de l’informatique\,pour apporter des réponses aux questions que nous nous posons tous. Sur le numérique\, le monde des nouvelles technologies.\, etc. Organisé de manière ouverte et conviviale\, un samedi par mois\, en toute simplicité. \nSalle des Amis de la Cité\nRue de la Barre 2\n1005 Lausanne \nAvec le soutien:
URL:https://egermond.ch/evenements/intergen-cite-novembre-2017/
LOCATION:Salle des Amis de la Cité\, Rue de la Barre 2\, Lausanne\, Vaud\, 1005\, Suisse
CATEGORIES:Atelier,Grand public,Quotidien
ATTACH;FMTTYPE=image/png:https://egermond.ch/wp-content/uploads/2017/10/intergen-logo-titre-200.png
ORGANIZER;CN="Emmanuelle Germond":MAILTO:emmanuelle@egermond.ch
END:VEVENT
BEGIN:VEVENT
DTSTART;TZID=Europe/Paris:20171021T100000
DTEND;TZID=Europe/Paris:20171021T180000
DTSTAMP:20231022T090555
CREATED:20171003T174839Z
LAST-MODIFIED:20171003T174839Z
UID:536-1508580000-1508608800@egermond.ch
SUMMARY:Intergen Cité - Octobre 2017
DESCRIPTION:Chaque mois: intergen \nVenez quand vous pouvez\,repartez quand vous voulez ! \nDe 7 à 107 ans\, journée libre d’entraide numérique intergénérationnelle.\nApporter un peu à boire\, à manger et surtout vos équipements numériques. Venez partager vos envies informatiques (site/page web\, blog\, emailing…)\, comme vos difficultés… \nIntergen est une initiative citoyenne\, réalisée par des professionnels de l’informatique\,pour apporter des réponses aux questions que nous nous posons tous. Sur le numérique\, le monde des nouvelles technologies.\, etc. Organisé de manière ouverte et conviviale\, un samedi par mois\, en toute simplicité. \nSalle des Amis de la Cité\nRue de la Barre 2\n1005 Lausanne \nAvec le soutien:
URL:https://egermond.ch/evenements/intergen-cite-octobre-2017/
LOCATION:Salle des Amis de la Cité\, Rue de la Barre 2\, Lausanne\, Vaud\, 1005\, Suisse
CATEGORIES:Atelier,Grand public,Quotidien
ATTACH;FMTTYPE=image/png:https://egermond.ch/wp-content/uploads/2017/10/intergen-logo-titre-200.png
ORGANIZER;CN="Emmanuelle Germond":MAILTO:emmanuelle@egermond.ch
END:VEVENT
BEGIN:VEVENT
DTSTART;TZID=Europe/Paris:20161117T193000
DTEND;TZID=Europe/Paris:20161117T210000
DTSTAMP:20231022T090555
CREATED:20161031T004643Z
LAST-MODIFIED:20170417T232542Z
UID:453-1479411000-1479416400@egermond.ch
SUMMARY:Conférence-débat du Parti Pirate Vaudois: La monnaie pleine
DESCRIPTION:
URL:https://egermond.ch/evenements/conference-debat-du-parti-pirate-vaudois-la-monnaie-pleine/
LOCATION:Pôle Sud\,  avenue Jean-Jacques Mercier 3 \, Lausanne\, 1003\, Suisse
CATEGORIES:Conférence,Grand public,Quotidien
ATTACH;FMTTYPE=image/png:https://egermond.ch/wp-content/uploads/2016/09/coins-on-spoon-with-potato-and-calculator.png
ORGANIZER;CN="Emmanuelle Germond":MAILTO:emmanuelle@egermond.ch
END:VEVENT
BEGIN:VEVENT
DTSTART;TZID=Europe/Paris:20160623T193000
DTEND;TZID=Europe/Paris:20160623T220000
DTSTAMP:20231022T090555
CREATED:20160623T093315Z
LAST-MODIFIED:20160623T093315Z
UID:390-1466710200-1466719200@egermond.ch
SUMMARY:Conférence-débat: CHvote\, un outil de vote électronique suisse romand
DESCRIPTION:Présentation du logiciel CHvote\, par la Chancelière d’Etat du canton de Genève\, Anja Wyden Guelpa\, et Olivier Leclere\, collaborateur scientifique. \nCe logiciel de vote électronique développé par le canton de Genève\, en open source\, a déjà été utilisé au sein du canton depuis 2003. Responsables du projet\, ces deux membre de la Chancellerie genevoise vous présenteront les moyens de développement et le fonctionnement de ce logiciel qui se veut résolument démocratique.
URL:https://egermond.ch/evenements/conference-debat-chvote-un-outil-de-vote-electronique-suisse-romand/
LOCATION:Pôle Sud\,  avenue Jean-Jacques Mercier 3 \, Lausanne\, 1003\, Suisse
CATEGORIES:Conférence,Grand public,Quotidien
ATTACH;FMTTYPE=image/png:https://egermond.ch/wp-content/uploads/2016/06/logo-ppch.png
ORGANIZER;CN="Emmanuelle Germond":MAILTO:emmanuelle@egermond.ch
END:VEVENT
BEGIN:VEVENT
DTSTART;TZID=Europe/Paris:20160613T120000
DTEND;TZID=Europe/Paris:20160613T140000
DTSTAMP:20231022T090556
CREATED:20160513T120208Z
LAST-MODIFIED:20160608T150352Z
UID:353-1465819200-1465826400@egermond.ch
SUMMARY:Open Business Lunch – Le graphisme en toute liberté
DESCRIPTION:Découvrez avec une graphiste confirmée\, les logiciels libres de l’image et du dessin.\nhttps://openromandie.ch/event/open-business-lunch-le-graphisme-en-toute-liberte/
URL:https://egermond.ch/evenements/open-business-lunch-le-graphisme-en-toute-liberte/
LOCATION:Hotel Continental Lausanne\, Place de la Gare 2\, Lausanne\, 1001\, Suisse
CATEGORIES:Conférence,Grand public,Métier,Professionnel,Quotidien
ORGANIZER;CN="Emmanuelle Germond":MAILTO:emmanuelle@egermond.ch
END:VEVENT
BEGIN:VEVENT
DTSTART;TZID=Europe/Paris:20160121T190000
DTEND;TZID=Europe/Paris:20160121T203000
DTSTAMP:20231022T090556
CREATED:20160114T073017Z
LAST-MODIFIED:20160114T073017Z
UID:301-1453402800-1453408200@egermond.ch
SUMMARY:Suisse\, Internet\, alimentation et sécurité
DESCRIPTION:L’union Pulliérane Vaud Libre organise ce 21 janvier une soirée débat à la maison Pulliérane\, avec la participation de: \n\nM. le Brigadier Denis Froidevaux\, nous parle de « Suisse et géopolitique »\nM. Pascal Kotté\, conseiller numérique indépendant\, aborde la « sécurité et Internet »\nM. Eric Sébel\, fondateur de Takinoa\, traitera de la « sécurité alimentaire ».\n\nL’accueil débute dès 18h30\, et la conférence à 19h\, pour se terminer avec un apéritif discussions et réseautage\, vers 20h30.
URL:https://egermond.ch/evenements/suisse-internet-alimentation-et-securite/
LOCATION:Maison Pulliérane\, Avenue de la Poste 1\, Pully\, 1009\, Suisse
CATEGORIES:Conférence,Grand public,Quotidien
END:VEVENT
BEGIN:VEVENT
DTSTART;TZID=Europe/Paris:20151128T110000
DTEND;TZID=Europe/Paris:20151128T180000
DTSTAMP:20231022T090556
CREATED:20151110T020314Z
LAST-MODIFIED:20151110T020314Z
UID:4-1448708400-1448733600@egermond.ch
SUMMARY:Fêtons Linux 2015
DESCRIPTION:Pour la deuxième fois\, Lausanne accueillera le samedi 28 novembre 2015 «Fêtons Linux – Le Libre en fête»\, l’événement incontournable pour découvrir dans la bonne humeur le monde du logiciel libre. Une belle occasion pour démystifier Linux auprès du grand public\, présenter les nombreuses qualités des logiciels libres et ainsi que les immenses possibilités offertes par les solutions open source. \n… ce serait peut-être l’une des plus grandes opportunités manquées de notre époque\nsi le logiciel libre ne libérait rien d’autre que du code. \nLaurence Lessig \n\nQuand on parle d’informatique\, on parle indifféremment de la science\, de la technique et des usages. Dans un monde où les besoins en informaticiens dépassent de beaucoup le nombre de ceux que l’on forme et dans un monde où les ordinateurs sont dans toutes les mains et de toutes les formes\, il est urgent de les différencier. \nSi le développement de la mutualisation par l’offre\, a déjà permis l’essor de nombreuses solutions Libres et Open Source (le Web\, systèmes d’exploitation\, ERP\, CMS)\, la mutualisation par la demande peine à se mettre en place face au modèle économique du « client captif ». C’est en réappropriant à chacun sa place que l’on peut assurer un avenir économique\, à l’ère de l’information. C’est une opportunité\, au travers des valeurs du Logiciel Libre\, d’entretenir un monde numérique fait de choix et d’ouvertures et non de monopoles et de dépendances. \nLa 6ème fête du Libre aura lieu à Lausanne le samedi 28 novembre 2015. Comme en 2014 à l’ERACOM\, de nombreuses associations et entreprises seront présentes avec différentes démonstrations\, des installations\, et répondront à toutes les questions que les visiteurs pourraient se poser concernant Linux et les logiciels libres dans une ambiance conviviale. \nAux travers de conférences et d’ateliers\, de nombreux intervenants s’exprimeront sur le monde de l’Open Source. Découvrir la bureautique éthique\, le dessin 3D pour tous\, des outils de gestion pérennes ou encore le cloud mutualisé\, autant de solutions qui permettent de garder la gouvernance de ses informations. \nEn permettant à l’utilisateur de contribuer\, on obtient de meilleurs résultats\nqu’en le contraignant à rétribuer \nFrançois Elie. \nLe programme détaillé des conférences et des activités sera publié ultérieurement\, il sera conçu de façon à intéresser aussi bien les jeunes en formation que les geeks et les simples curieux. \nFêtons Linux 2015 est organisé par le GULL (Groupe romand des Utilisateurs/trices de Logiciels Libres)\, secondé par la société why! open computing SA\, et avec l’aide de nombreuses associations comme SwissLinux.org et /ch/open. Il s’agit donc d’une organisation bénévole\, qui compte cependant sur un certain nombre de sponsors pour couvrir les inévitables frais tout en restant un événement gratuit. \nLes organisateurs de Fêtons Linux 2015 se réjouissent de vous accueillir. ainsi qu’un public nombreux\, à Lausanne. \nPlus d’informations et renseignements :\nGULL : Emmanuelle Germond\, e-germond@citycable.ch\, + 41 76 822 36 69\nWhy !: Nicolas Guignard\, nicolas.guignard@whyopencomputing.ch\, + 41 21 661 22 22\nhttps://www.fetonslinux.ch
URL:https://egermond.ch/evenements/fetons-linux-2015/
LOCATION:Beaulieu\, Avenue Bergières 10\, Lausanne\, 1004\, Suisse
CATEGORIES:Grand public,Passionné,Professionnel,TIC
ORGANIZER;CN="Emmanuelle Germond":MAILTO:emmanuelle@egermond.ch
END:VEVENT
END:VCALENDAR