BEGIN:VCALENDAR
VERSION:2.0
PRODID:-//Emmanuelle Germond - ECPv6.2.4//NONSGML v1.0//EN
CALSCALE:GREGORIAN
METHOD:PUBLISH
X-WR-CALNAME:Emmanuelle Germond
X-ORIGINAL-URL:https://egermond.ch
X-WR-CALDESC:évènements pour Emmanuelle Germond
REFRESH-INTERVAL;VALUE=DURATION:PT1H
X-Robots-Tag:noindex
X-PUBLISHED-TTL:PT1H
BEGIN:VTIMEZONE
TZID:Europe/Paris
BEGIN:DAYLIGHT
TZOFFSETFROM:+0100
TZOFFSETTO:+0200
TZNAME:CEST
DTSTART:20150329T010000
END:DAYLIGHT
BEGIN:STANDARD
TZOFFSETFROM:+0200
TZOFFSETTO:+0100
TZNAME:CET
DTSTART:20151025T010000
END:STANDARD
BEGIN:DAYLIGHT
TZOFFSETFROM:+0100
TZOFFSETTO:+0200
TZNAME:CEST
DTSTART:20160327T010000
END:DAYLIGHT
BEGIN:STANDARD
TZOFFSETFROM:+0200
TZOFFSETTO:+0100
TZNAME:CET
DTSTART:20161030T010000
END:STANDARD
END:VTIMEZONE
BEGIN:VEVENT
DTSTART;TZID=Europe/Paris:20160123T100000
DTEND;TZID=Europe/Paris:20160124T170000
DTSTAMP:20231022T091130
CREATED:20160117T172826Z
LAST-MODIFIED:20160117T172826Z
UID:310-1453543200-1453654800@egermond.ch
SUMMARY:IoT Weekend Hackathon
DESCRIPTION:EUROPE’S LARGEST IoT hackathon January 23-24\nWhen people talk about “the next big thing”\, they’re never thinking big enough. It’s not for a lack of imagination; it’s for a lack of opportunity – we rarely have the time and resources to work on something awesome. That’s why FIXME is organizing one of the first and largest Internet of Things hackathons in Europe – come build a wireless light or build a connected rocket ship\, there are no restrictions on where your imagination can take you! \nAre you a hacker? A student? Engineer? Maker? Expert? Noob? Or just curious about IoT? \nCome join us and 100 other hackers on the 23-24 of January at FIXME to build the future Internet of Things\, during a software and hardware hackathon – you’ll have access to a fully equipped workshop with laser cutters\, soldering irons\, CNC machines\, 3d printers\, and much more. Everyone with a sincere and passionate desire to make something awesome is welcome! \nBUILD THE FUTURE\nIoT will not only impact how we live\, but also how we work. 2016 is poised to be the year when we finally start to see real life applications used broadly in both consumer and industrial applications. However\, many existing IoT products are either poorly designed\, too expensive\, or don’t do anything that is practical and useful. That’s why we’re organizing a hackathon. \nRegister here to participate in the biggest IoT Hackathon in Europe\, with access to a makerspace\, experts and hardware.
URL:https://egermond.ch/evenements/iot-weekend-hackathon/
LOCATION:FixMe\, Chemin du Closel 5\, Renens\, 1020\, Suisse
CATEGORIES:Atelier,Métier,Passionné,TIC
ORGANIZER;CN="FixMe":MAILTO:info@fixme.ch
END:VEVENT
BEGIN:VEVENT
DTSTART;TZID=Europe/Paris:20151128T110000
DTEND;TZID=Europe/Paris:20151128T180000
DTSTAMP:20231022T091130
CREATED:20151110T020314Z
LAST-MODIFIED:20151110T020314Z
UID:4-1448708400-1448733600@egermond.ch
SUMMARY:Fêtons Linux 2015
DESCRIPTION:Pour la deuxième fois\, Lausanne accueillera le samedi 28 novembre 2015 «Fêtons Linux – Le Libre en fête»\, l’événement incontournable pour découvrir dans la bonne humeur le monde du logiciel libre. Une belle occasion pour démystifier Linux auprès du grand public\, présenter les nombreuses qualités des logiciels libres et ainsi que les immenses possibilités offertes par les solutions open source. \n… ce serait peut-être l’une des plus grandes opportunités manquées de notre époque\nsi le logiciel libre ne libérait rien d’autre que du code. \nLaurence Lessig \n\nQuand on parle d’informatique\, on parle indifféremment de la science\, de la technique et des usages. Dans un monde où les besoins en informaticiens dépassent de beaucoup le nombre de ceux que l’on forme et dans un monde où les ordinateurs sont dans toutes les mains et de toutes les formes\, il est urgent de les différencier. \nSi le développement de la mutualisation par l’offre\, a déjà permis l’essor de nombreuses solutions Libres et Open Source (le Web\, systèmes d’exploitation\, ERP\, CMS)\, la mutualisation par la demande peine à se mettre en place face au modèle économique du « client captif ». C’est en réappropriant à chacun sa place que l’on peut assurer un avenir économique\, à l’ère de l’information. C’est une opportunité\, au travers des valeurs du Logiciel Libre\, d’entretenir un monde numérique fait de choix et d’ouvertures et non de monopoles et de dépendances. \nLa 6ème fête du Libre aura lieu à Lausanne le samedi 28 novembre 2015. Comme en 2014 à l’ERACOM\, de nombreuses associations et entreprises seront présentes avec différentes démonstrations\, des installations\, et répondront à toutes les questions que les visiteurs pourraient se poser concernant Linux et les logiciels libres dans une ambiance conviviale. \nAux travers de conférences et d’ateliers\, de nombreux intervenants s’exprimeront sur le monde de l’Open Source. Découvrir la bureautique éthique\, le dessin 3D pour tous\, des outils de gestion pérennes ou encore le cloud mutualisé\, autant de solutions qui permettent de garder la gouvernance de ses informations. \nEn permettant à l’utilisateur de contribuer\, on obtient de meilleurs résultats\nqu’en le contraignant à rétribuer \nFrançois Elie. \nLe programme détaillé des conférences et des activités sera publié ultérieurement\, il sera conçu de façon à intéresser aussi bien les jeunes en formation que les geeks et les simples curieux. \nFêtons Linux 2015 est organisé par le GULL (Groupe romand des Utilisateurs/trices de Logiciels Libres)\, secondé par la société why! open computing SA\, et avec l’aide de nombreuses associations comme SwissLinux.org et /ch/open. Il s’agit donc d’une organisation bénévole\, qui compte cependant sur un certain nombre de sponsors pour couvrir les inévitables frais tout en restant un événement gratuit. \nLes organisateurs de Fêtons Linux 2015 se réjouissent de vous accueillir. ainsi qu’un public nombreux\, à Lausanne. \nPlus d’informations et renseignements :\nGULL : Emmanuelle Germond\, e-germond@citycable.ch\, + 41 76 822 36 69\nWhy !: Nicolas Guignard\, nicolas.guignard@whyopencomputing.ch\, + 41 21 661 22 22\nhttps://www.fetonslinux.ch
URL:https://egermond.ch/evenements/fetons-linux-2015/
LOCATION:Beaulieu\, Avenue Bergières 10\, Lausanne\, 1004\, Suisse
CATEGORIES:Grand public,Passionné,Professionnel,TIC
ORGANIZER;CN="Emmanuelle Germond":MAILTO:emmanuelle@egermond.ch
END:VEVENT
END:VCALENDAR