BEGIN:VCALENDAR
VERSION:2.0
PRODID:-//Emmanuelle Germond - ECPv6.2.4//NONSGML v1.0//EN
CALSCALE:GREGORIAN
METHOD:PUBLISH
X-WR-CALNAME:Emmanuelle Germond
X-ORIGINAL-URL:https://egermond.ch
X-WR-CALDESC:évènements pour Emmanuelle Germond
REFRESH-INTERVAL;VALUE=DURATION:PT1H
X-Robots-Tag:noindex
X-PUBLISHED-TTL:PT1H
BEGIN:VTIMEZONE

END:VTIMEZONE
BEGIN:VEVENT
DTSTART;TZID=Europe/Paris:20231022T091257
DTEND;TZID=Europe/Paris:20220322T000000
DTSTAMP:20231022T091257
CREATED:20220312T210950Z
LAST-MODIFIED:20220312T210950Z
UID:1456-0-1647907200@egermond.ch
SUMMARY:Le MO créateur – Atelier d’écriture
DESCRIPTION:Cher(e) amateur·ice de mots\, de poésie sauvage et de libertéTU: \naimes bien écrire \, mais bon “tu n’es pas écrivain(e)\, et puis entre les études\, le travail\, les enfants…” \nas une imagination qui te crie tous les jours qu’elle a envie de sortir\, ou un petit grain de folie qui ne demande qu’à être planté en terre fertile? \ncherche un endroit où tu peux te tester\, te challenger\, te découvrir en toute sérénité\, sans compétition ni prérequis\, accessible à tous les budgets tout en buvant du thé? \nALORS BIENVENUE À TOI\nle 2ème et 4ème mardi du mois à 18h30\nAnimé par Déborah Zäch
URL:https://egermond.ch/evenements/le-mo-createur-atelier-decriture/
CATEGORIES:Atelier,Rencontre,SDMB
ORGANIZER;CN="Soci%C3%A9t%C3%A9 de d%C3%A9veloppement Marterey-Bugnon":MAILTO:info@sdmb_ch
END:VEVENT
BEGIN:VEVENT
DTSTART;TZID=Europe/Paris:20231022T091257
DTEND;TZID=Europe/Paris:20231022T091257
DTSTAMP:20231022T091257
CREATED:20220312T211958Z
LAST-MODIFIED:20220312T211958Z
UID:1487-0-0@egermond.ch
SUMMARY:[Annulé]Intergen Ours avril 2020
DESCRIPTION:Chaque mois: venez quand vous pouvez\, repartez quand vous voulez !De 7 à 107 ans\, journée libre d’entraide numérique intergénérationnelle: Apporter un peu à boire\, à manger et surtout vos équipements numériques. Venez partager vos envies informatiques (site/page web\, blog\, emailing…)\, comme vos difficultés…\nIntergen est une initiative citoyenne\, réalisée par des professionnels de l’informatique\, pour apporter des réponses aux questions que nous nous posons tous. Sur le numérique\, le monde des nouvelles technologies\, etc. Organisé de manière ouverte et conviviale\, un samedi par mois\, en toute simplicité.
URL:https://egermond.ch/evenements/annuleintergen-ours-avril-2020/
CATEGORIES:Intergen,Rencontre,SDMB
ORGANIZER;CN="Emmanuelle Germond":MAILTO:emmanuelle_germond@sdmb_ch
END:VEVENT
BEGIN:VEVENT
DTSTART;TZID=Europe/Paris:20231022T091257
DTEND;TZID=Europe/Paris:20231022T091257
DTSTAMP:20231022T091257
CREATED:20220312T211955Z
LAST-MODIFIED:20220312T211955Z
UID:1486-0-0@egermond.ch
SUMMARY:[Annulé]Vide-grenier
DESCRIPTION:Vous avez envie de proposer aux gens vos plus improbables morceaux de vie\, vous allez déménager (pas trop loin on espère !)\, vos enfants sont devenus trop grands pour tous ces jouets et quelques sous pourraient leur payer leur voyage d’étude ?Alors n’attendez pas pour vous inscrire et connaître nos conditions : vide-grenier@sdmb.ch. Les meilleurs stands seront attribués par ordre d’inscription. Une présence communale assurera l’information quand au futur de la place. L’événement sera reporté en cas d’intempéries.\nInformations pratiques\nCoût de l’emplacement de 4m2 : 20.-\, à payer cash le jour-même\nDépôt de 8h à 9h / reprise dès 12h30\, un espace de livraison prévu\nPas de places de parc à proximité\, parking Mon-Repos à 30m.\nAnnulé en cas d’intempéries\, reporté en fin d’année. En cas d’annulation\, les inscrits seront avertis le jour-même entre 7h et 7h30. L’information sera également disponible en ligne.\nLes emplacements sont remis en fonction de l’ordre d’inscription\, priorité sera faite aux gens du quartier.\nInscription jusqu’au 31 mars 2020\nErreur : Formulaire de contact non trouvé !
URL:https://egermond.ch/evenements/annulevide-grenier/
CATEGORIES:Rencontre,SDMB
END:VEVENT
BEGIN:VEVENT
DTSTART;TZID=Europe/Paris:20231022T091257
DTEND;TZID=Europe/Paris:20231022T091257
DTSTAMP:20231022T091257
CREATED:20220312T211951Z
LAST-MODIFIED:20220312T211951Z
UID:1485-0-0@egermond.ch
SUMMARY:[Annulé]Intergen Ours mars 2020
DESCRIPTION:Chaque mois: venez quand vous pouvez\, repartez quand vous voulez !De 7 à 107 ans\, journée libre d’entraide numérique intergénérationnelle: Apporter un peu à boire\, à manger et surtout vos équipements numériques. Venez partager vos envies informatiques (site/page web\, blog\, emailing…)\, comme vos difficultés…\nIntergen est une initiative citoyenne\, réalisée par des professionnels de l’informatique\, pour apporter des réponses aux questions que nous nous posons tous. Sur le numérique\, le monde des nouvelles technologies\, etc. Organisé de manière ouverte et conviviale\, un samedi par mois\, en toute simplicité.
URL:https://egermond.ch/evenements/annuleintergen-ours-mars-2020/
CATEGORIES:Intergen,Rencontre,SDMB
ORGANIZER;CN="Emmanuelle Germond":MAILTO:emmanuelle_germond@sdmb_ch
END:VEVENT
BEGIN:VEVENT
DTSTART;TZID=Europe/Paris:20231022T091257
DTEND;TZID=Europe/Paris:20231022T091257
DTSTAMP:20231022T091257
CREATED:20220312T211947Z
LAST-MODIFIED:20220312T211947Z
UID:1484-0-0@egermond.ch
SUMMARY:[Annulé]Soirée membres
DESCRIPTION:Sympathique moment de partage.Plus d’infos bientôt.\nVous souhaitez vous inscrire comme membre de la SDMB ?\nErreur : Formulaire de contact non trouvé !
URL:https://egermond.ch/evenements/annulesoiree-membres/
CATEGORIES:Rencontre,SDMB
ORGANIZER;CN="Soci%C3%A9t%C3%A9 de d%C3%A9veloppement Marterey-Bugnon":MAILTO:info@sdmb_ch
END:VEVENT
BEGIN:VEVENT
DTSTART;TZID=Europe/Paris:20231022T091257
DTEND;TZID=Europe/Paris:20231022T091257
DTSTAMP:20231022T091257
CREATED:20220312T211747Z
LAST-MODIFIED:20220312T211747Z
UID:1480-0-0@egermond.ch
SUMMARY:Fête de Noël du Coutzet et chemin étoilé
DESCRIPTION:La Fête de NoëlBALADE CONTÉE ET APÉRO MUSICAL\nLe Chemin Étoilé\n16h École de Mon-Repos (Av. Béthusy 12).\nFloriane Nikles\, la conteuse propose aux petits et grands une promenade dans le quartier et le Parc de Mon-Repos à la recherche des trésors de Noël. De nombreuses découvertes\, surprises et rencontres attendent les enfants sur leur chemin. Départ à 16h15\, arrivée vers 17h15 à la Fontaine du Coutzet\, les enfants restent sous la surveillance de leur adulte responsable.\nApéro musical\n17h15 Fontaine du Coutzet\, angle rues Sainte-Beuve et Marterey.\nNotre traditionnel Noël sera inauguré par l’arrivée lumineuse du cortège des enfants et la décoration de la fontaine par leurs soins. Dès lors\, animation musicale avec l’orchestre STYVES\, chocolat chaud\, thé de Noël et collation offerte à tous\, apéro et raclette proposés à prix doux pour favoriser les nombreux projets de notre année 2020 jubilaire.
URL:https://egermond.ch/evenements/fete-de-noel-du-coutzet-et-chemin-etoile/
CATEGORIES:Rencontre,SDMB
ORGANIZER;CN="Emmanuelle Germond":MAILTO:emmanuelle_germond@sdmb_ch
END:VEVENT
BEGIN:VEVENT
DTSTART;TZID=Europe/Paris:20231022T091257
DTEND;TZID=Europe/Paris:20231022T091257
DTSTAMP:20231022T091257
CREATED:20220312T211551Z
LAST-MODIFIED:20220312T211551Z
UID:1477-0-0@egermond.ch
SUMMARY:Intergen Ours – mars 2019
DESCRIPTION:Chaque mois: venez quand vous pouvez\, repartez quand vous voulez !De 7 à 107 ans\, journée libre d’entraide numérique intergénérationnelle: Apporter un peu à boire\, à manger et surtout vos équipements numériques. Venez partager vos envies informatiques (site/page web\, blog\, emailing…)\, comme vos difficultés…\nIntergen est une initiative citoyenne\, réalisée par des professionnels de l’informatique\, pour apporter des réponses aux questions que nous nous posons tous. Sur le numérique\, le monde des nouvelles technologies\, etc. Organisé de manière ouverte et conviviale\, un samedi par mois\, en toute simplicité.
URL:https://egermond.ch/evenements/intergen-ours-mars-2019/
CATEGORIES:Intergen,Rencontre,SDMB
ORGANIZER;CN="Emmanuelle Germond":MAILTO:emmanuelle_germond@sdmb_ch
END:VEVENT
BEGIN:VEVENT
DTSTART;TZID=Europe/Paris:20231022T091257
DTEND;TZID=Europe/Paris:20231022T091257
DTSTAMP:20231022T091257
CREATED:20220312T211403Z
LAST-MODIFIED:20220312T211403Z
UID:1475-0-0@egermond.ch
SUMMARY:Soirée Couscous 2019
DESCRIPTION:La Société de Développement Marterey-Bugnon et environs vous invite à sa soirée couscous le vendredi 15 mars 2019 au Restaurant de la Piscine de Mon-Repos.Dès 19 heures:\nRepas servi dans la salle réservée pour cet événement\, en compagnie du duo musical Lily et Jimmy\nLe verre de l’amitié (sangria maison) offert par le Restaurant de la Piscine de Mon Repos\nAu menu:\nSalade verte\nCouscous du Cap Bon (tunisien)\nviande de bœuf + merguez + légumes\nProfiteroles au chocolat\nAu prix spécial Fr. 22.50 par personne\n(boissons non comprises)\nVenez nombreux\, et en famille si vous le souhaitez\, pour partager avec nous un moment chaleureux et convivial\, pour faire connaissance\, ou tout simplement pour se retrouver.\nErreur : Formulaire de contact non trouvé !
URL:https://egermond.ch/evenements/soiree-couscous-2019/
CATEGORIES:Rencontre,SDMB
ORGANIZER;CN="Soci%C3%A9t%C3%A9 de d%C3%A9veloppement Marterey-Bugnon":MAILTO:info@sdmb_ch
END:VEVENT
BEGIN:VEVENT
DTSTART;TZID=Europe/Paris:20231022T091257
DTEND;TZID=Europe/Paris:20231022T091257
DTSTAMP:20231022T091257
CREATED:20220312T211351Z
LAST-MODIFIED:20220312T211351Z
UID:1472-0-0@egermond.ch
SUMMARY:Le Père Noël et son âne
DESCRIPTION:Le Père Noël et son âne vous attendent le mercredi 12 décembre 2018 entre 16 et 19h autour de la fontaine du Coutzet entre Marterey et Sainte-Beuve.Chocolat chaud\, vin chaud\, thé d’hiver vous seront offerts dans une ambiance animée par le musicien Styves.\nCollation pour petits et grands.
URL:https://egermond.ch/evenements/le-pere-noel-et-son-ane/
CATEGORIES:Rencontre,SDMB
ORGANIZER;CN="Soci%C3%A9t%C3%A9 de d%C3%A9veloppement Marterey-Bugnon":MAILTO:info@sdmb_ch
END:VEVENT
BEGIN:VEVENT
DTSTART;TZID=Europe/Paris:20231022T091257
DTEND;TZID=Europe/Paris:20231022T091257
DTSTAMP:20231022T091257
CREATED:20220312T211347Z
LAST-MODIFIED:20220312T211347Z
UID:1471-0-0@egermond.ch
SUMMARY:Intergen mai 2021
DESCRIPTION:Chaque mois: venez quand vous pouvez\, repartez quand vous voulez !De 7 à 107 ans\, journée libre d’entraide numérique intergénérationnelle: Apporter un peu à boire\, à manger et surtout vos équipements numériques. Venez partager vos envies informatiques (site/page web\, blog\, emailing?)\, comme vos difficultés?\nIntergen est une initiative citoyenne\, réalisée par des professionnels de l’informatique\, pour apporter des réponses aux questions que nous nous posons tous. Sur le numérique\, le monde des nouvelles technologies\, etc. Organisé de manière ouverte et conviviale\, un samedi par mois\, en toute simplicité.
URL:https://egermond.ch/evenements/intergen-mai-2021/
LOCATION:Rue Caroline 16\, Rue Caroline 16
CATEGORIES:Intergen,Rencontre,SDMB
ORGANIZER;CN="Emmanuelle Germond":MAILTO:emmanuelle_germond@sdmb_ch
END:VEVENT
BEGIN:VEVENT
DTSTART;TZID=Europe/Paris:20231022T091257
DTEND;TZID=Europe/Paris:20231022T091257
DTSTAMP:20231022T091257
CREATED:20220312T211202Z
LAST-MODIFIED:20220312T211202Z
UID:1469-0-0@egermond.ch
SUMMARY:CHUV Travaux – Séance d’information
DESCRIPTION:SÉANCE D’INFORMATION AUX RIVERAINSINVITATION EN LIGNE\nC’est avec grand plaisir que le CHUV vous convie à une séance d’information sur plusieurs chantiers en cours dans la cité hospitalière\, ainsi que sur le thème de la mobilité (extension du parking souterrain public\, véli-stations) et des réaménagements paysagers.\nEn raison de la situation sanitaire\, cette séance se tiendra en ligne:\nLE JEUDI 4 NOVEMBRE 2021 DE 18H00 À 19H00\nNous vous remercions de bien vouloir vous inscrire d’ici au 29 octobre 2021 à l’adresse joelle.isler@chuv.ch\nVous recevrez alors un lien où vous connecter le jeudi 4 novembre pour participer à une séance interactive.\nRenseignements sur les chantiers www.chuv.ch/cits ou par téléphone au +41 79 556 12 71.
URL:https://egermond.ch/evenements/chuv-travaux-seance-dinformation/
CATEGORIES:Rencontre,SDMB,Séance d'information
END:VEVENT
BEGIN:VEVENT
DTSTART;TZID=Europe/Paris:20231022T091257
DTEND;TZID=Europe/Paris:20231022T091257
DTSTAMP:20231022T091257
CREATED:20220312T211147Z
LAST-MODIFIED:20220312T211147Z
UID:1462-0-0@egermond.ch
SUMMARY:ToastMasters – Lausanne International
DESCRIPTION:Regular MeetingLooking to improve your speaking and leadership skills? Ignite your career? Gain the confidence to speak up?\nYou’ve come to the right place. Since 1924\, Toastmasters International has helped more than 4 million people just like you\, from around the world\, become more confident speakers and leaders.\nWhat is Toastmasters?\nToastmasters International is a world leader in communication and leadership development\, with more than 345\,000 members in over 15\,900 clubs in 142 countries. This network of clubs and their learn-by-doing programme are sure to help you improve.\nThere is no instructor in a Toastmasters meeting. Instead\, members evaluate one another’s presentations\, pointing out the strengths and suggesting improvements. This feedback process is a key part of the program’s success. Members also give impromptu talks on assigned topics\, conduct meetings and develop their leadership skills.\nMore info: https://lausannetoastmasters.org/lausanne-international-toastmasters-club/
URL:https://egermond.ch/evenements/toastmasters-lausanne-international/
LOCATION:Rue Caroline 16\, Rue Caroline 16
CATEGORIES:Atelier,Rencontre,SDMB
ATTACH;FMTTYPE=image/png:https://egermond.ch/wp-content/uploads/2022/03/Wordmark-Tagline-Lockup-PNG-768x264-1-F1smwA.tmp_.png
END:VEVENT
BEGIN:VEVENT
DTSTART;TZID=Europe/Paris:20231022T091257
DTEND;TZID=Europe/Paris:20231022T091257
DTSTAMP:20231022T091257
CREATED:20220312T211000Z
LAST-MODIFIED:20220312T211000Z
UID:1460-0-0@egermond.ch
SUMMARY:Intergen – Entraide numérique
DESCRIPTION:Chaque mois: venez quand vous pouvez\, repartez quand vous voulez !De 7 à 107 ans\, journée libre d’entraide numérique intergénérationnelle: Apporter un peu à boire\, à manger et surtout vos équipements numériques. Venez partager vos envies informatiques (site/page web\, blog\, emailing?)\, comme vos difficultés?\nIntergen est une initiative citoyenne\, réalisée par des professionnels de l’informatique\, pour apporter des réponses aux questions que nous nous posons tous. Sur le numérique\, le monde des nouvelles technologies\, etc. Organisé de manière ouverte et conviviale\, un samedi par mois\, en toute simplicité.
URL:https://egermond.ch/evenements/intergen-entraide-numerique/
CATEGORIES:Intergen,Rencontre,SDMB
ATTACH;FMTTYPE=image/png:https://egermond.ch/wp-content/uploads/2022/03/intergen-illustration-200dpi-wj1Q5s.tmp_.png
ORGANIZER;CN="Emmanuelle Germond":MAILTO:emmanuelle_germond@sdmb_ch
END:VEVENT
BEGIN:VEVENT
DTSTART;TZID=Europe/Paris:20231022T091257
DTEND;TZID=Europe/Paris:20231022T091257
DTSTAMP:20231022T091257
CREATED:20220312T210957Z
LAST-MODIFIED:20220312T210957Z
UID:1458-0-0@egermond.ch
SUMMARY:[Reporté au 2 avril] Mini-Festival Corée du Nord
DESCRIPTION:Le mini-festival est reporté au 2 avril pour des raisons de licence.La Corée du Nord n’est pas le pays le plus communicatif quand il s’agit d’art et de contenu public. Mais\, il y a de ça quelques années\, la Corée du Nord a fait parler d’elle en acceptant d’exporter 4 longs métrages nord-coréens à la diffusion mondiale.\nLe but de ce mini-festival est de vous faire découvrir ces 4 films ainsi que quelques contenus surprise.\nLes séances commenceront à 16h\, le samedi 12 février 2022\, avec une pause entre les films pour échanger et papoter.
URL:https://egermond.ch/evenements/reporte-au-2-avril-mini-festival-coree-du-nord/
CATEGORIES:Cinéma,Festival,Rencontre,SDMB
ATTACH;FMTTYPE=image/png:https://egermond.ch/wp-content/uploads/2022/03/rect84905-gX1HtM.tmp_.png
ORGANIZER;CN="Soci%C3%A9t%C3%A9 de d%C3%A9veloppement Marterey-Bugnon":MAILTO:info@sdmb_ch
END:VEVENT
BEGIN:VEVENT
DTSTART;TZID=Europe/Paris:20231022T091257
DTEND;TZID=Europe/Paris:20231022T091257
DTSTAMP:20231022T091257
CREATED:20220312T210953Z
LAST-MODIFIED:20220312T210953Z
UID:1457-0-0@egermond.ch
SUMMARY:Summer War – Open-air à Mon-Repos
DESCRIPTION:film en open-air\, il aura lieu dans l’amphithéâtre de la Villa Mon Repos à 22h le samedi 18 juin (reporté en cas d’intempéries).Summer Wars\n(2009) de Mamoru Hosoda\nKenji\, collégien matheux\, accompagne la jolie Natsuki à une fête de son immense famille. Au même moment\, dans le réseau social OZ\, Love Machine\, dangereuse intelligence artificielle\, débute un chaos mondial.
URL:https://egermond.ch/evenements/summer-war-open-air-a-mon-repos/
CATEGORIES:Cinéma,Rencontre,SDMB
ATTACH;FMTTYPE=image/jpeg:https://egermond.ch/wp-content/uploads/2022/03/Summer-wars-1-856x1024-1-kcnP5K.tmp_.jpg
ORGANIZER;CN="Soci%C3%A9t%C3%A9 de d%C3%A9veloppement Marterey-Bugnon":MAILTO:info@sdmb_ch
END:VEVENT
BEGIN:VEVENT
DTSTART;TZID=Europe/Paris:20231022T091257
DTEND;TZID=Europe/Paris:20231022T091257
DTSTAMP:20231022T091257
CREATED:20220312T210946Z
LAST-MODIFIED:20220312T210946Z
UID:1455-0-0@egermond.ch
SUMMARY:Café Climat – Les gestes numériques durables: diminuez votre empreinte CO2
DESCRIPTION:Dans toutes nos activités\, on peut chercher notre empreinte carbone et tenter de la diminuer du mieux que l’on peut. Cela n’est pas toujours simple quand il s’agit de fruits et légumes ou de nos vêtements\, mais quand il s’agit de notre informatique\, le choix semble très vite impossible. Pourtant\, avec quelques gestes simples\, de nouvelles habitudes de travail peuvent vite changer la donne. Accessible à tous les niveaux\, cet atelier est conçu pour toutes les expériences et les profils utilisateurs.De l’achat à l’usage quotidien\, notre monde numérique vu sous l’angle du durable et de nos habitudes. Pendant cet atelier\, vous apprendrez: \nLes gestes quotidiens pour diminuer notre empreinte en ligne \nOrdinateur\, smartphone et tablettes \nLes services numériques durables\, éthiques et écologiques \nRéseaux sociaux\, email\, site web et logiciels \nL’achat d’un ordinateur durable \nNeuf et durable:comment bien choisir\nOccasion: une 2e vie paisible \nSmartphones: nos chers “mouchards de poche” \nPeut-on les rendre durables ?\nComment leur donner une seconde vie ? \nLinux\, logiciels libres: si je ne suis pas informaticien\, c’est possible ? \nAnimé par Emmanuelle Germond.\nEmmanuelle Germond donne des cours d’informatique depuis plus de 20 ans. Elle s’est spécialisée en Linux\, plus en éthique numérique plus générale. Aujourd’hui\, elle est membre de Swisslinux.org\, du Parti Pirate Vaudois\, anime l’atelier d’entraide numérique Intergen Ours\, en collaboration avec la SDMB où elle est membre du comité. Emmanuelle est une coopératrice Itopie\, coopérative de spécialistes romands du numérique durable\, et membre du comité scientifique de l’Institut du Numérique Durable Suisse.
URL:https://egermond.ch/evenements/cafe-climat-les-gestes-numeriques-durables-diminuez-votre-empreinte-co2/
CATEGORIES:Café Climat,Rencontre,SDMB
ORGANIZER;CN="Soci%C3%A9t%C3%A9 de d%C3%A9veloppement Marterey-Bugnon":MAILTO:info@sdmb_ch
END:VEVENT
BEGIN:VEVENT
DTSTART;TZID=Europe/Paris:20231022T091257
DTEND;TZID=Europe/Paris:20231022T091257
DTSTAMP:20231022T091257
CREATED:20220312T210928Z
LAST-MODIFIED:20220312T210928Z
UID:1453-0-0@egermond.ch
SUMMARY:Café Climat
DESCRIPTION:Description à venir
URL:https://egermond.ch/evenements/cafe-climat/
CATEGORIES:Café Climat,Rencontre,SDMB
ORGANIZER;CN="Soci%C3%A9t%C3%A9 de d%C3%A9veloppement Marterey-Bugnon":MAILTO:info@sdmb_ch
END:VEVENT
BEGIN:VEVENT
DTSTART;TZID=Europe/Paris:20231022T091257
DTEND;TZID=Europe/Paris:20231022T091257
DTSTAMP:20231022T091257
CREATED:20220312T210924Z
LAST-MODIFIED:20220312T210924Z
UID:1451-0-0@egermond.ch
SUMMARY:Café Climat – Héros ordinaires: documentaire et débat
DESCRIPTION:Description à venir
URL:https://egermond.ch/evenements/cafe-climat-heros-ordinaires-documentaire-et-debat/
CATEGORIES:Café Climat,Rencontre,SDMB
ATTACH;FMTTYPE=image/jpeg:https://egermond.ch/wp-content/uploads/2022/03/banniere-diffusions-heros-ordinaires-neuchatel-w3oSob.tmp_.jpg
ORGANIZER;CN="Soci%C3%A9t%C3%A9 de d%C3%A9veloppement Marterey-Bugnon":MAILTO:info@sdmb_ch
END:VEVENT
BEGIN:VEVENT
DTSTART;TZID=Europe/Paris:20231022T091257
DTEND;TZID=Europe/Paris:20231022T091257
DTSTAMP:20231022T091257
CREATED:20220312T210913Z
LAST-MODIFIED:20220312T210913Z
UID:1447-0-0@egermond.ch
SUMMARY:Mini-Festival Corée du Nord
DESCRIPTION:La Corée du Nord n’est pas le pays le plus communicatif quand il s’agit d’art et de contenu public. Mais\, il y a de ça quelques années\, la Corée du Nord a fait parler d’elle en acceptant d’exporter 4 longs métrages nord-coréens à la diffusion mondiale.Le but de ce mini-festival est de vous faire découvrir ces 4 films ainsi que quelques contenus surprise.\nLes séances commenceront à 16h\, le samedi 12 février 2022\, avec une pause entre les films pour échanger et papoter.
URL:https://egermond.ch/evenements/mini-festival-coree-du-nord/
CATEGORIES:Cinéma,Festival,Rencontre,SDMB
ATTACH;FMTTYPE=image/png:https://egermond.ch/wp-content/uploads/2022/03/rect84905-gX1HtM.tmp_.png
ORGANIZER;CN="Soci%C3%A9t%C3%A9 de d%C3%A9veloppement Marterey-Bugnon":MAILTO:info@sdmb_ch
END:VEVENT
END:VCALENDAR