BEGIN:VCALENDAR
VERSION:2.0
PRODID:-//Emmanuelle Germond - ECPv6.2.4//NONSGML v1.0//EN
CALSCALE:GREGORIAN
METHOD:PUBLISH
X-ORIGINAL-URL:https://egermond.ch
X-WR-CALDESC:évènements pour Emmanuelle Germond
REFRESH-INTERVAL;VALUE=DURATION:PT1H
X-Robots-Tag:noindex
X-PUBLISHED-TTL:PT1H
BEGIN:VTIMEZONE

END:VTIMEZONE
BEGIN:VEVENT
DTSTART;TZID=Europe/Paris:20231022T091613
DTEND;TZID=Europe/Paris:20231022T091613
DTSTAMP:20231022T091613
CREATED:20220312T211202Z
LAST-MODIFIED:20220312T211202Z
UID:1469-0-0@egermond.ch
SUMMARY:CHUV Travaux – Séance d’information
DESCRIPTION:SÉANCE D’INFORMATION AUX RIVERAINSINVITATION EN LIGNE\nC’est avec grand plaisir que le CHUV vous convie à une séance d’information sur plusieurs chantiers en cours dans la cité hospitalière\, ainsi que sur le thème de la mobilité (extension du parking souterrain public\, véli-stations) et des réaménagements paysagers.\nEn raison de la situation sanitaire\, cette séance se tiendra en ligne:\nLE JEUDI 4 NOVEMBRE 2021 DE 18H00 À 19H00\nNous vous remercions de bien vouloir vous inscrire d’ici au 29 octobre 2021 à l’adresse joelle.isler@chuv.ch\nVous recevrez alors un lien où vous connecter le jeudi 4 novembre pour participer à une séance interactive.\nRenseignements sur les chantiers www.chuv.ch/cits ou par téléphone au +41 79 556 12 71.
URL:https://egermond.ch/evenements/chuv-travaux-seance-dinformation/
CATEGORIES:Rencontre,SDMB,Séance d'information
END:VEVENT
END:VCALENDAR