BEGIN:VCALENDAR
VERSION:2.0
PRODID:-//Emmanuelle Germond - ECPv6.2.4//NONSGML v1.0//EN
CALSCALE:GREGORIAN
METHOD:PUBLISH
X-ORIGINAL-URL:https://egermond.ch
X-WR-CALDESC:évènements pour Emmanuelle Germond
REFRESH-INTERVAL;VALUE=DURATION:PT1H
X-Robots-Tag:noindex
X-PUBLISHED-TTL:PT1H
BEGIN:VTIMEZONE
TZID:Europe/Paris
BEGIN:DAYLIGHT
TZOFFSETFROM:+0100
TZOFFSETTO:+0200
TZNAME:CEST
DTSTART:20160327T010000
END:DAYLIGHT
BEGIN:STANDARD
TZOFFSETFROM:+0200
TZOFFSETTO:+0100
TZNAME:CET
DTSTART:20161030T010000
END:STANDARD
END:VTIMEZONE
BEGIN:VEVENT
DTSTART;TZID=Europe/Paris:20160613T120000
DTEND;TZID=Europe/Paris:20160613T140000
DTSTAMP:20231022T091205
CREATED:20160513T120208Z
LAST-MODIFIED:20160608T150352Z
UID:353-1465819200-1465826400@egermond.ch
SUMMARY:Open Business Lunch – Le graphisme en toute liberté
DESCRIPTION:Découvrez avec une graphiste confirmée\, les logiciels libres de l’image et du dessin.\nhttps://openromandie.ch/event/open-business-lunch-le-graphisme-en-toute-liberte/
URL:https://egermond.ch/evenements/open-business-lunch-le-graphisme-en-toute-liberte/
LOCATION:Hotel Continental Lausanne\, Place de la Gare 2\, Lausanne\, 1001\, Suisse
CATEGORIES:Conférence,Grand public,Métier,Professionnel,Quotidien
ORGANIZER;CN="Emmanuelle Germond":MAILTO:emmanuelle@egermond.ch
END:VEVENT
END:VCALENDAR