BEGIN:VCALENDAR
VERSION:2.0
PRODID:-//Emmanuelle Germond - ECPv6.2.4//NONSGML v1.0//EN
CALSCALE:GREGORIAN
METHOD:PUBLISH
X-WR-CALNAME:Emmanuelle Germond
X-ORIGINAL-URL:https://egermond.ch
X-WR-CALDESC:évènements pour Emmanuelle Germond
REFRESH-INTERVAL;VALUE=DURATION:PT1H
X-Robots-Tag:noindex
X-PUBLISHED-TTL:PT1H
BEGIN:VTIMEZONE
TZID:Europe/Paris
BEGIN:DAYLIGHT
TZOFFSETFROM:+0100
TZOFFSETTO:+0200
TZNAME:CEST
DTSTART:20160327T010000
END:DAYLIGHT
BEGIN:STANDARD
TZOFFSETFROM:+0200
TZOFFSETTO:+0100
TZNAME:CET
DTSTART:20161030T010000
END:STANDARD
END:VTIMEZONE
BEGIN:VEVENT
DTSTART;VALUE=DATE:20160108
DTEND;VALUE=DATE:20160211
DTSTAMP:20231022T090543
CREATED:20151216T180152Z
LAST-MODIFIED:20151216T180152Z
UID:237-1452211200-1455148799@egermond.ch
SUMMARY:Rencontres Hivernales du Libre 2016
DESCRIPTION:Rencontres Hivernales du Libre 2016\nQuoi ?\nLes Rencontres Hivernales du Libre (RHL) ont pour but de rassembler les forces suisses-romandes du logiciel libre et préoccupations connexes. \nLa deuxième édition a lieu du 8 au 10 janvier 2016\, à St-Cergue et sera ponctuée d’activités variées\, allant des ateliers aux présentations en passant par des activités plus physiques en extérieur\, offrant ainsi aux participants une situation\, un cadre et une ambiance spécifiques favorisant les échanges et le bouillonnement intellectuel\, autant individuel que collectif. \nQui est invité?\nDe Suisse romande ou de plus loin\, hackers\, artistes et hacktivistes sont les bienvenus! \nLes problématiques et perspectives sont apportées par les participants: applications et implications du logiciel libre\, méthodes et projets collaboratifs\, questions citoyennes\, de liberté ou d’indépendance\, protection des données\, autonomie informatique\, etc. Ces rencontres sont ainsi l’occasion de rassembler les différentes tribus de ce vaste écosystème\, de lancer des ponts entre les spécialités\, les préoccupations et les domaines de compétences dans un esprit collaboratif et amical.
URL:https://egermond.ch/evenements/rencontres-hivernales-du-libre-2016/
LOCATION:Centre du Vallon\, St-Cergue\, Suisse
CATEGORIES:Atelier,Conférence,Passionné
ATTACH;FMTTYPE=image/png:https://egermond.ch/wp-content/uploads/2015/12/rhl-square.png
END:VEVENT
END:VCALENDAR