BEGIN:VCALENDAR
VERSION:2.0
PRODID:-//Emmanuelle Germond - ECPv6.2.4//NONSGML v1.0//EN
CALSCALE:GREGORIAN
METHOD:PUBLISH
X-WR-CALNAME:Emmanuelle Germond
X-ORIGINAL-URL:https://egermond.ch
X-WR-CALDESC:évènements pour Emmanuelle Germond
REFRESH-INTERVAL;VALUE=DURATION:PT1H
X-Robots-Tag:noindex
X-PUBLISHED-TTL:PT1H
BEGIN:VTIMEZONE
TZID:Europe/Paris
BEGIN:DAYLIGHT
TZOFFSETFROM:+0100
TZOFFSETTO:+0200
TZNAME:CEST
DTSTART:20180325T010000
END:DAYLIGHT
BEGIN:STANDARD
TZOFFSETFROM:+0200
TZOFFSETTO:+0100
TZNAME:CET
DTSTART:20181028T010000
END:STANDARD
END:VTIMEZONE
BEGIN:VEVENT
DTSTART;VALUE=DATE:20180928
DTEND;VALUE=DATE:20180930
DTSTAMP:20231022T090716
CREATED:20180611T181436Z
LAST-MODIFIED:20180611T181436Z
UID:735-1538092800-1538265599@egermond.ch
SUMMARY:WordCamp 2018 Lausanne
DESCRIPTION:Bienvenue ! \nAprès Zurich en 2014 et 2015\, Genève en 2016\, et Berne en 2017\,  Lausanne accueillera le 5ème WordCamp en Suisse les 28 et 29 septembre 2018. \nLa journée de conférence aura lieu le samedi 29 septembre\, cet événement sera bilingue français-anglais . Et le jour des contributeur-trice-s se tiendra le vendredi 28 septembre et est un très bon moyen pour apprendre à contribuer au projet open source WordPress.
URL:https://egermond.ch/evenements/wordcamp-2018-lausanne/
CATEGORIES:Entreprise,Métier,Passionné,Professionnel
ATTACH;FMTTYPE=image/png:https://egermond.ch/wp-content/uploads/2018/06/Firefox_Screenshot_2018-06-11T18-14-06.185Z.png
END:VEVENT
END:VCALENDAR