BEGIN:VCALENDAR
VERSION:2.0
PRODID:-//Emmanuelle Germond - ECPv6.2.4//NONSGML v1.0//EN
CALSCALE:GREGORIAN
METHOD:PUBLISH
X-WR-CALNAME:Emmanuelle Germond
X-ORIGINAL-URL:https://egermond.ch
X-WR-CALDESC:évènements pour Emmanuelle Germond
REFRESH-INTERVAL;VALUE=DURATION:PT1H
X-Robots-Tag:noindex
X-PUBLISHED-TTL:PT1H
BEGIN:VTIMEZONE
TZID:Europe/Paris
BEGIN:DAYLIGHT
TZOFFSETFROM:+0100
TZOFFSETTO:+0200
TZNAME:CEST
DTSTART:20160327T010000
END:DAYLIGHT
BEGIN:STANDARD
TZOFFSETFROM:+0200
TZOFFSETTO:+0100
TZNAME:CET
DTSTART:20161030T010000
END:STANDARD
END:VTIMEZONE
BEGIN:VEVENT
DTSTART;TZID=Europe/Paris:20160623T193000
DTEND;TZID=Europe/Paris:20160623T220000
DTSTAMP:20231022T090700
CREATED:20160623T093315Z
LAST-MODIFIED:20160623T093315Z
UID:390-1466710200-1466719200@egermond.ch
SUMMARY:Conférence-débat: CHvote\, un outil de vote électronique suisse romand
DESCRIPTION:Présentation du logiciel CHvote\, par la Chancelière d’Etat du canton de Genève\, Anja Wyden Guelpa\, et Olivier Leclere\, collaborateur scientifique. \nCe logiciel de vote électronique développé par le canton de Genève\, en open source\, a déjà été utilisé au sein du canton depuis 2003. Responsables du projet\, ces deux membre de la Chancellerie genevoise vous présenteront les moyens de développement et le fonctionnement de ce logiciel qui se veut résolument démocratique.
URL:https://egermond.ch/evenements/conference-debat-chvote-un-outil-de-vote-electronique-suisse-romand/
LOCATION:Pôle Sud\,  avenue Jean-Jacques Mercier 3 \, Lausanne\, 1003\, Suisse
CATEGORIES:Conférence,Grand public,Quotidien
ATTACH;FMTTYPE=image/png:https://egermond.ch/wp-content/uploads/2016/06/logo-ppch.png
ORGANIZER;CN="Emmanuelle Germond":MAILTO:emmanuelle@egermond.ch
END:VEVENT
END:VCALENDAR